BEGIN:VCALENDAR
VERSION:2.0
PRODID:-//Plone.org//NONSGML plone.app.event//EN
X-WR-TIMEZONE:Europe/Zurich
BEGIN:VEVENT
SUMMARY:16.20 Uhr: Start Wahlpflichtfächer und Freifächer
DTSTART;VALUE=DATE:20240812
DTEND;VALUE=DATE:20240813
DTSTAMP;VALUE=DATE-TIME:20260424T004824Z
UID:c84abb77c9e74559b0936bd4291405aa@127.0.0.1:6081
CREATED;VALUE=DATE-TIME:20240419T085408Z
LAST-MODIFIED;VALUE=DATE-TIME:20240419T085821Z
URL:https://gymnasium.ai.ch/nuetzliches/termine/start-wahlpflichtfaecher-u
 nd-freifaecher-16-20-uhr
END:VEVENT
END:VCALENDAR
