BEGIN:VCALENDAR
VERSION:2.0
PRODID:-//Plone.org//NONSGML plone.app.event//EN
X-WR-TIMEZONE:Europe/Zurich
BEGIN:VEVENT
SUMMARY:Steuererklärung ausfüllen leicht gemacht – Praxis für unselbs
 tändig Erwerbende
DTSTART;VALUE=DATE-TIME:20200305T180000Z
DTEND;VALUE=DATE-TIME:20200305T200000Z
DTSTAMP;VALUE=DATE-TIME:20260424T004910Z
UID:b087f711305942859cb536e36423113b@127.0.0.1:10150
CREATED;VALUE=DATE-TIME:20200211T081319Z
DESCRIPTION:Kursleiter: Ilija Kuhac
LAST-MODIFIED;VALUE=DATE-TIME:20200211T124148Z
LOCATION:Gymnasium St. Antonius\, Wirtschaftszimmer\, 2. OG
URL:https://gymnasium.ai.ch/nuetzliches/termine/steuererklaerung-ausfuelle
 n-leicht-gemacht
END:VEVENT
END:VCALENDAR
