BEGIN:VCALENDAR
VERSION:2.0
PRODID:-//Plone.org//NONSGML plone.app.event//EN
X-WR-TIMEZONE:Europe/Zurich
BEGIN:VEVENT
SUMMARY:Studienberatung
DTSTART;VALUE=DATE-TIME:20180321T101000Z
DTEND;VALUE=DATE-TIME:20180321T105500Z
DTSTAMP;VALUE=DATE-TIME:20260424T004228Z
UID:0d4862bc60bb49d5a5592bb91e9e2c40@127.0.0.1:10150
CREATED;VALUE=DATE-TIME:20180301T064627Z
DESCRIPTION:Information Studienberatung (Klasse 5B\, 11.10 – 11.55 Uhr\,
  Klassenzimmer)
LAST-MODIFIED;VALUE=DATE-TIME:20180301T064631Z
URL:https://gymnasium.ai.ch/nuetzliches/termine/studienberatung-1
END:VEVENT
END:VCALENDAR
