BEGIN:VCALENDAR
VERSION:2.0
PRODID:-//Plone.org//NONSGML plone.app.event//EN
X-WR-TIMEZONE:Europe/Zurich
BEGIN:VEVENT
SUMMARY:Studienberatung
DTSTART;VALUE=DATE-TIME:20180321T063000Z
DTEND;VALUE=DATE-TIME:20180321T105500Z
DTSTAMP;VALUE=DATE-TIME:20260423T231216Z
UID:0ec99f456330427faae531a77a638f0b@127.0.0.1:10150
CREATED;VALUE=DATE-TIME:20180301T064811Z
DESCRIPTION:Kurzgespräche Studienberatung (ganzer Vormittag\, 6. Klasse)
LAST-MODIFIED;VALUE=DATE-TIME:20180301T064815Z
URL:https://gymnasium.ai.ch/nuetzliches/termine/studienberatung-2
END:VEVENT
END:VCALENDAR
