BEGIN:VCALENDAR
VERSION:2.0
PRODID:-//Plone.org//NONSGML plone.app.event//EN
X-WR-TIMEZONE:Europe/Zurich
BEGIN:VEVENT
SUMMARY:Studienberatung
DTSTART;VALUE=DATE-TIME:20180228T064000Z
DTEND;VALUE=DATE-TIME:20180228T105500Z
DTSTAMP;VALUE=DATE-TIME:20260423T231216Z
UID:6440f895b4a04cf490ca8e2bf798cd9b@127.0.0.1:10150
CREATED;VALUE=DATE-TIME:20180129T094224Z
DESCRIPTION:Kurzgespräche Studienberatung (ganzer Vormittag\, 6. Klasse)
LAST-MODIFIED;VALUE=DATE-TIME:20180129T094227Z
URL:https://gymnasium.ai.ch/nuetzliches/termine/studienberatung
END:VEVENT
END:VCALENDAR
