BEGIN:VCALENDAR
VERSION:2.0
PRODID:-//Plone.org//NONSGML plone.app.event//EN
X-WR-TIMEZONE:Europe/Zurich
BEGIN:VEVENT
SUMMARY:Studienwoche 3. - 6. Gym
DTSTART;VALUE=DATE:20190331
DTEND;VALUE=DATE:20190406
DTSTAMP;VALUE=DATE-TIME:20260423T231512Z
UID:3f9a8e74b25a4ba69f623bff3774a602@127.0.0.1:10150
CREATED;VALUE=DATE-TIME:20190401T150719Z
LAST-MODIFIED;VALUE=DATE-TIME:20190401T150724Z
URL:https://gymnasium.ai.ch/nuetzliches/termine/studienwoche-3-6-gym-1
END:VEVENT
END:VCALENDAR
