BEGIN:VCALENDAR
VERSION:2.0
PRODID:-//Plone.org//NONSGML plone.app.event//EN
X-WR-TIMEZONE:Europe/Zurich
BEGIN:VEVENT
SUMMARY:Abgesagt: Studienwoche 3. - 6. Gym: Medienwoche (3. Gym)\, Fremdsp
 rachenaufenthalt (4. Gym)\, Wirtschaftswoche (5. Gym)\, IDU-Woche (6. Gym)
DTSTART;VALUE=DATE:20200329
DTEND;VALUE=DATE:20200404
DTSTAMP;VALUE=DATE-TIME:20260423T231927Z
UID:51b9d61e63424141974ac1cf6eb331bd@127.0.0.1:10150
CREATED;VALUE=DATE-TIME:20200221T173300Z
LAST-MODIFIED;VALUE=DATE-TIME:20200318T075708Z
URL:https://gymnasium.ai.ch/nuetzliches/termine/studienwoche-3-6-gym-medie
 nwoche-3-gym-fremdsprachenaufenthalt-4-gym-wirtschaftswoche-5-gym-idu-woch
 e-6-gym
END:VEVENT
END:VCALENDAR
