BEGIN:VCALENDAR
VERSION:2.0
PRODID:-//Plone.org//NONSGML plone.app.event//EN
X-WR-TIMEZONE:Europe/Zurich
BEGIN:VEVENT
SUMMARY:Studienwoche 3. - 6. Gym.
DTSTART;VALUE=DATE:20230403
DTEND;VALUE=DATE:20230407
DTSTAMP;VALUE=DATE-TIME:20260423T231928Z
UID:ccad3916d5ff4b52aec02b0ec9cbe2a9@127.0.0.1:6081
CREATED;VALUE=DATE-TIME:20221012T162341Z
LAST-MODIFIED;VALUE=DATE-TIME:20221012T162633Z
URL:https://gymnasium.ai.ch/nuetzliches/termine/studienwoche-3-6-gym-medie
 nwoche-3-klassen-fremdsprachenaufenthalt-4-klassen-wirtschaftswoche-5-klas
 sen-idu-woche-6-klassen
END:VEVENT
END:VCALENDAR
