BEGIN:VCALENDAR
VERSION:2.0
PRODID:-//Plone.org//NONSGML plone.app.event//EN
X-WR-TIMEZONE:Europe/Zurich
BEGIN:VEVENT
SUMMARY:Studienwoche 3. - 6. Gym
DTSTART;VALUE=DATE-TIME:20180403T053000Z
DTEND;VALUE=DATE-TIME:20180406T140000Z
DTSTAMP;VALUE=DATE-TIME:20260424T004725Z
UID:747ab04d217d4d3ebc9ca583b8e9b717@127.0.0.1:10150
CREATED;VALUE=DATE-TIME:20180307T092425Z
LAST-MODIFIED;VALUE=DATE-TIME:20180308T065055Z
URL:https://gymnasium.ai.ch/nuetzliches/termine/studienwoche-3-6-gym
END:VEVENT
END:VCALENDAR
