BEGIN:VCALENDAR
VERSION:2.0
PRODID:-//Plone.org//NONSGML plone.app.event//EN
X-WR-TIMEZONE:Europe/Zurich
BEGIN:VEVENT
SUMMARY:Studienwoche 3. - 6. Klassen: Medienwoche (3. Klassen)\, Fremdspra
 chenaufenthalt (4.  Klassen)\, Wirtschaftswoche (5. Klassen)\, IDU-Woche (
 6. Klassen)
DTSTART;VALUE=DATE:20250331
DTEND;VALUE=DATE:20250405
DTSTAMP;VALUE=DATE-TIME:20260423T231928Z
UID:21fa984374b84a8aa069585885a8ec3f@127.0.0.1:6081
CREATED;VALUE=DATE-TIME:20240927T155603Z
LAST-MODIFIED;VALUE=DATE-TIME:20240927T155608Z
URL:https://gymnasium.ai.ch/nuetzliches/termine/studienwoche-3-6-klassen-m
 edienwoche-3-klassen-fremdsprachenaufenthalt-4-klassen-wirtschaftswoche-5-
 klassen-idu-woche-6-klassen-1
END:VEVENT
END:VCALENDAR
