BEGIN:VCALENDAR
VERSION:2.0
PRODID:-//Plone.org//NONSGML plone.app.event//EN
X-WR-TIMEZONE:Europe/Zurich
BEGIN:VEVENT
SUMMARY:Studienwoche 3.–6. Klassen: Medienwoche (3. Klassen)\, Fremdspra
 chenaufenthalt (4.  Klassen)\, Wirtschaftswoche (5. Klassen)\, IDU-Woche (
 6. Klassen)
DTSTART;VALUE=DATE:20240402
DTEND;VALUE=DATE:20240406
DTSTAMP;VALUE=DATE-TIME:20260423T231929Z
UID:d4f435369b174e48ac0ff8604726095e@127.0.0.1:6081
CREATED;VALUE=DATE-TIME:20240202T155350Z
LAST-MODIFIED;VALUE=DATE-TIME:20240202T155442Z
URL:https://gymnasium.ai.ch/nuetzliches/termine/studienwoche-3-6-klassen-m
 edienwoche-3-klassen-fremdsprachenaufenthalt-4-klassen-wirtschaftswoche-5-
 klassen-idu-woche-6-klassen
END:VEVENT
END:VCALENDAR
