BEGIN:VCALENDAR
VERSION:2.0
PRODID:-//Plone.org//NONSGML plone.app.event//EN
X-WR-TIMEZONE:Europe/Zurich
BEGIN:VEVENT
SUMMARY:Technikwoche 5. Gym
DTSTART;VALUE=DATE:20191103
DTEND;VALUE=DATE:20191109
DTSTAMP;VALUE=DATE-TIME:20260423T231420Z
UID:03b676f3a983452fa5754f24e3e9fd56@127.0.0.1:10150
CREATED;VALUE=DATE-TIME:20190707T113209Z
LAST-MODIFIED;VALUE=DATE-TIME:20190707T113216Z
URL:https://gymnasium.ai.ch/nuetzliches/termine/technikwoche-5-gym-1
END:VEVENT
END:VCALENDAR
