BEGIN:VCALENDAR
VERSION:2.0
PRODID:-//Plone.org//NONSGML plone.app.event//EN
X-WR-TIMEZONE:Europe/Zurich
BEGIN:VEVENT
SUMMARY:Technikwoche (5. Gym)
DTSTART;VALUE=DATE-TIME:20181105T063000Z
DTEND;VALUE=DATE-TIME:20181109T160000Z
DTSTAMP;VALUE=DATE-TIME:20260423T231338Z
UID:1e3b86994062468ea800a3721ddc7e18@127.0.0.1:10150
CREATED;VALUE=DATE-TIME:20180928T120302Z
LAST-MODIFIED;VALUE=DATE-TIME:20180928T150942Z
URL:https://gymnasium.ai.ch/nuetzliches/termine/technikwoche-5-gym
END:VEVENT
END:VCALENDAR
