BEGIN:VCALENDAR
VERSION:2.0
PRODID:-//Plone.org//NONSGML plone.app.event//EN
X-WR-TIMEZONE:Europe/Zurich
BEGIN:VEVENT
SUMMARY:Technikwoche (5. Klassen)
DTSTART;VALUE=DATE:20211107
DTEND;VALUE=DATE:20211113
DTSTAMP;VALUE=DATE-TIME:20260423T231402Z
UID:830bba19849948ba82ccac1bd869ea8a@127.0.0.1:10150
CREATED;VALUE=DATE-TIME:20211024T072219Z
LAST-MODIFIED;VALUE=DATE-TIME:20211024T072225Z
URL:https://gymnasium.ai.ch/nuetzliches/termine/technikwoche-5-klassen-1
END:VEVENT
END:VCALENDAR
