BEGIN:VCALENDAR
VERSION:2.0
PRODID:-//Plone.org//NONSGML plone.app.event//EN
X-WR-TIMEZONE:Europe/Zurich
BEGIN:VEVENT
SUMMARY:Technikwoche: 5. Klassen
DTSTART;VALUE=DATE:20221107
DTEND;VALUE=DATE:20221112
DTSTAMP;VALUE=DATE-TIME:20260424T004609Z
UID:c739d17dade449299d8fe6d05d484a80@127.0.0.1:6081
CREATED;VALUE=DATE-TIME:20220711T201714Z
LAST-MODIFIED;VALUE=DATE-TIME:20220711T201738Z
URL:https://gymnasium.ai.ch/nuetzliches/termine/technikwoche-5-klassen-2
END:VEVENT
END:VCALENDAR
