BEGIN:VCALENDAR
VERSION:2.0
PRODID:-//Plone.org//NONSGML plone.app.event//EN
X-WR-TIMEZONE:Europe/Zurich
BEGIN:VEVENT
SUMMARY:Technikwoche (5. Klassen)
DTSTART;VALUE=DATE:20251027
DTEND;VALUE=DATE:20251101
DTSTAMP;VALUE=DATE-TIME:20260423T231344Z
UID:32e745d7a05a4f12887828678a65a40c@127.0.0.1:6081
CREATED;VALUE=DATE-TIME:20250719T193302Z
LAST-MODIFIED;VALUE=DATE-TIME:20250719T193310Z
URL:https://gymnasium.ai.ch/nuetzliches/termine/technikwoche-5-klassen-4
END:VEVENT
END:VCALENDAR
