BEGIN:VCALENDAR
VERSION:2.0
PRODID:-//Plone.org//NONSGML plone.app.event//EN
X-WR-TIMEZONE:Europe/Zurich
BEGIN:VEVENT
SUMMARY:Abgesagt: Technikwoche 5. Klassen
DTSTART;VALUE=DATE:20201101
DTEND;VALUE=DATE:20201107
DTSTAMP;VALUE=DATE-TIME:20260424T004610Z
UID:e9278465943a4716ae0bbed79b98d268@127.0.0.1:10150
CREATED;VALUE=DATE-TIME:20201008T144539Z
LAST-MODIFIED;VALUE=DATE-TIME:20201027T162436Z
URL:https://gymnasium.ai.ch/nuetzliches/termine/technikwoche-5-klassen
END:VEVENT
END:VCALENDAR
