BEGIN:VCALENDAR
VERSION:2.0
PRODID:-//Plone.org//NONSGML plone.app.event//EN
X-WR-TIMEZONE:Europe/Zurich
BEGIN:VEVENT
SUMMARY:Testwoche für das 1. Semester Schuljahr 2018/19
DTSTART;VALUE=DATE-TIME:20180604T053000Z
DTEND;VALUE=DATE-TIME:20180608T140000Z
DTSTAMP;VALUE=DATE-TIME:20260423T231803Z
UID:4f698cc7f8f14b21bb7dd0b13dfa8a42@127.0.0.1:10150
CREATED;VALUE=DATE-TIME:20180307T094042Z
LAST-MODIFIED;VALUE=DATE-TIME:20180308T065056Z
URL:https://gymnasium.ai.ch/nuetzliches/termine/testwoche-fuer-das-1-semes
 ter-schuljahr-2018-19
END:VEVENT
END:VCALENDAR
