BEGIN:VCALENDAR
VERSION:2.0
PRODID:-//Plone.org//NONSGML plone.app.event//EN
X-WR-TIMEZONE:Europe/Zurich
BEGIN:VEVENT
SUMMARY:Testwoche für das 1. Semester Schuljahr 2021/22
DTSTART;VALUE=DATE:20210606
DTEND;VALUE=DATE:20210612
DTSTAMP;VALUE=DATE-TIME:20260423T231818Z
UID:302be3b30f5f4ababf75baa8a5be19de@127.0.0.1:10150
CREATED;VALUE=DATE-TIME:20210417T144339Z
LAST-MODIFIED;VALUE=DATE-TIME:20210417T144355Z
URL:https://gymnasium.ai.ch/nuetzliches/termine/testwoche-fuer-das-1-semes
 ter-schuljahr-2021-22
END:VEVENT
END:VCALENDAR
