BEGIN:VCALENDAR
VERSION:2.0
PRODID:-//Plone.org//NONSGML plone.app.event//EN
X-WR-TIMEZONE:Europe/Zurich
BEGIN:VEVENT
SUMMARY:Testwoche für das 2. Semester Schuljahr 2018/19
DTSTART;VALUE=DATE:20181125
DTEND;VALUE=DATE:20181201
DTSTAMP;VALUE=DATE-TIME:20260423T231807Z
UID:3de7c0e9cde84623a5ea590660d2d14c@127.0.0.1:10150
CREATED;VALUE=DATE-TIME:20180928T121638Z
LAST-MODIFIED;VALUE=DATE-TIME:20180928T150943Z
URL:https://gymnasium.ai.ch/nuetzliches/termine/testwoche-fuer-das-2-semes
 ter-schuljahr-2018-19
END:VEVENT
END:VCALENDAR
