BEGIN:VCALENDAR
VERSION:2.0
PRODID:-//Plone.org//NONSGML plone.app.event//EN
X-WR-TIMEZONE:Europe/Zurich
BEGIN:VEVENT
SUMMARY:Testwoche für das 2. Semester Schuljahr 2019/20
DTSTART;VALUE=DATE:20191124
DTEND;VALUE=DATE:20191130
DTSTAMP;VALUE=DATE-TIME:20260424T020955Z
UID:f57c3d18d18d41e392e2d89057ce4ca5@127.0.0.1:10150
CREATED;VALUE=DATE-TIME:20190707T114706Z
LAST-MODIFIED;VALUE=DATE-TIME:20190707T114709Z
LOCATION:Gymnasium St. Antonius
URL:https://gymnasium.ai.ch/nuetzliches/termine/testwoche-fuer-das-2-semes
 ter-schuljahr-2019-20
END:VEVENT
END:VCALENDAR
