BEGIN:VCALENDAR
VERSION:2.0
PRODID:-//Plone.org//NONSGML plone.app.event//EN
X-WR-TIMEZONE:Europe/Zurich
BEGIN:VEVENT
SUMMARY:Testwoche für das 2. Semester Schuljahr 2021/22
DTSTART;VALUE=DATE:20211128
DTEND;VALUE=DATE:20211204
DTSTAMP;VALUE=DATE-TIME:20260423T231804Z
UID:a58dc1ffae0740a0894c0141c85473eb@127.0.0.1:10150
CREATED;VALUE=DATE-TIME:20211024T073712Z
LAST-MODIFIED;VALUE=DATE-TIME:20211024T073718Z
URL:https://gymnasium.ai.ch/nuetzliches/termine/testwoche-fuer-das-2-semes
 ter-schuljahr-2021-22
END:VEVENT
END:VCALENDAR
