BEGIN:VCALENDAR
VERSION:2.0
PRODID:-//Plone.org//NONSGML plone.app.event//EN
X-WR-TIMEZONE:Europe/Zurich
BEGIN:VEVENT
SUMMARY:Testwoche für das 2. Semester
DTSTART;VALUE=DATE:20231127
DTEND;VALUE=DATE:20231202
DTSTAMP;VALUE=DATE-TIME:20260423T231605Z
UID:70f2cf0538944925875f5c92e48c589d@127.0.0.1:6081
CREATED;VALUE=DATE-TIME:20230712T090847Z
LAST-MODIFIED;VALUE=DATE-TIME:20230712T090852Z
URL:https://gymnasium.ai.ch/nuetzliches/termine/testwoche-fuer-das-2-semes
 ter
END:VEVENT
END:VCALENDAR
