BEGIN:VCALENDAR
VERSION:2.0
PRODID:-//Plone.org//NONSGML plone.app.event//EN
X-WR-TIMEZONE:Europe/Zurich
BEGIN:VEVENT
SUMMARY:Theater am Gymnasium St. Antonius Appenzell: Ruhe! Wir drehen!
DTSTART;TZID=Europe/Zurich;VALUE=DATE-TIME:20240309T200000
DTEND;TZID=Europe/Zurich;VALUE=DATE-TIME:20240309T223000
DTSTAMP;VALUE=DATE-TIME:20260423T231816Z
UID:54fc55f9bb0e473eb2c265dee40d6f57@127.0.0.1:6081
CREATED;VALUE=DATE-TIME:20240221T072935Z
LAST-MODIFIED;VALUE=DATE-TIME:20240221T072940Z
URL:https://gymnasium.ai.ch/nuetzliches/termine/theater-am-gymnasium-st-an
 tonius-appenzell-ruhe-wir-drehen-1
END:VEVENT
BEGIN:VTIMEZONE
TZID:Europe/Zurich
X-LIC-LOCATION:Europe/Zurich
BEGIN:STANDARD
DTSTART;VALUE=DATE-TIME:20231029T020000
TZNAME:CET
TZOFFSETFROM:+0200
TZOFFSETTO:+0100
END:STANDARD
END:VTIMEZONE
END:VCALENDAR
