BEGIN:VCALENDAR
VERSION:2.0
PRODID:-//Plone.org//NONSGML plone.app.event//EN
X-WR-TIMEZONE:Europe/Zurich
BEGIN:VEVENT
SUMMARY:Verleihung Antoniuspreis findet statt
DTSTART;VALUE=DATE-TIME:20200612T143000Z
DTEND;VALUE=DATE-TIME:20200612T153000Z
DTSTAMP;VALUE=DATE-TIME:20260424T004910Z
UID:c65880ad6fef4306a9e084721177e98d@127.0.0.1:10150
CREATED;VALUE=DATE-TIME:20200603T201510Z
LAST-MODIFIED;VALUE=DATE-TIME:20200603T203031Z
URL:https://gymnasium.ai.ch/nuetzliches/termine/verleihung-antoniuspreis-f
 -findet-statt
END:VEVENT
END:VCALENDAR
