BEGIN:VCALENDAR
VERSION:2.0
PRODID:-//Plone.org//NONSGML plone.app.event//EN
X-WR-TIMEZONE:Europe/Zurich
BEGIN:VEVENT
SUMMARY:Vorbereitung GymiFest (Nachmittag)
DTSTART;VALUE=DATE:20240920
DTEND;VALUE=DATE:20240921
DTSTAMP;VALUE=DATE-TIME:20260423T231612Z
UID:bc474a33c6c9431ab5967c918d276309@127.0.0.1:6081
CREATED;VALUE=DATE-TIME:20240703T205437Z
LAST-MODIFIED;VALUE=DATE-TIME:20240703T205442Z
URL:https://gymnasium.ai.ch/nuetzliches/termine/vorbereitung-gymifest-nach
 mittag
END:VEVENT
END:VCALENDAR
