BEGIN:VCALENDAR
VERSION:2.0
PRODID:-//Plone.org//NONSGML plone.app.event//EN
X-WR-TIMEZONE:Europe/Zurich
BEGIN:VEVENT
SUMMARY:Vortrag von Christoph Bornhauser: Ihre Kinder sind ganz normal. Es
  ist nur die Pubertät.
DTSTART;VALUE=DATE-TIME:20191029T190000Z
DTEND;VALUE=DATE-TIME:20191029T203000Z
DTSTAMP;VALUE=DATE-TIME:20260423T231810Z
UID:d2fc7da237cc43e3954419df88a8a53c@127.0.0.1:10150
CREATED;VALUE=DATE-TIME:20191021T070921Z
LAST-MODIFIED;VALUE=DATE-TIME:20191021T135213Z
LOCATION:Theatersaal Gymnasium St. Antonius\, Appenzell
URL:https://gymnasium.ai.ch/nuetzliches/termine/vortrag-ihre-kinder-sind-g
 anz-normal-es-ist-nur-die-pubertaet
END:VEVENT
END:VCALENDAR
