BEGIN:VCALENDAR
VERSION:2.0
PRODID:-//Plone.org//NONSGML plone.app.event//EN
X-WR-TIMEZONE:Europe/Zurich
BEGIN:VEVENT
SUMMARY:Gymi-Theater – Abendvorstellung: Weg mit den A's - Eine Krimikom
 ödie
DTSTART;TZID=Europe/Zurich;VALUE=DATE-TIME:20260313T200000
DTEND;TZID=Europe/Zurich;VALUE=DATE-TIME:20260313T223000
DTSTAMP;VALUE=DATE-TIME:20260423T231657Z
UID:cd55fc47cdea43988959b4554ce5cacc@127.0.0.1:6081
CREATED;VALUE=DATE-TIME:20260209T090617Z
LAST-MODIFIED;VALUE=DATE-TIME:20260222T211642Z
URL:https://gymnasium.ai.ch/nuetzliches/termine/wahlpflichtfach-theater-ab
 endvorstellung-4
END:VEVENT
BEGIN:VTIMEZONE
TZID:Europe/Zurich
X-LIC-LOCATION:Europe/Zurich
BEGIN:STANDARD
DTSTART;VALUE=DATE-TIME:20251026T020000
TZNAME:CET
TZOFFSETFROM:+0200
TZOFFSETTO:+0100
END:STANDARD
END:VTIMEZONE
END:VCALENDAR
