BEGIN:VCALENDAR
VERSION:2.0
PRODID:-//Plone.org//NONSGML plone.app.event//EN
X-WR-TIMEZONE:Europe/Zurich
BEGIN:VEVENT
SUMMARY:Wahlpflichtfach Theater: Abendvorstellung
DTSTART;TZID=Europe/Zurich;VALUE=DATE-TIME:20250213T200000
DTEND;TZID=Europe/Zurich;VALUE=DATE-TIME:20250213T220000
DTSTAMP;VALUE=DATE-TIME:20260423T231653Z
UID:e36c9de75eb343ca8a3a65fd2c9ddda6@127.0.0.1:6081
CREATED;VALUE=DATE-TIME:20241203T100817Z
LAST-MODIFIED;VALUE=DATE-TIME:20241203T100823Z
URL:https://gymnasium.ai.ch/nuetzliches/termine/wahlpflichtfach-theater-ab
 endvorstellung
END:VEVENT
BEGIN:VTIMEZONE
TZID:Europe/Zurich
X-LIC-LOCATION:Europe/Zurich
BEGIN:STANDARD
DTSTART;VALUE=DATE-TIME:20241027T020000
TZNAME:CET
TZOFFSETFROM:+0200
TZOFFSETTO:+0100
END:STANDARD
END:VTIMEZONE
END:VCALENDAR
