BEGIN:VCALENDAR
VERSION:2.0
PRODID:-//Plone.org//NONSGML plone.app.event//EN
X-WR-TIMEZONE:Europe/Zurich
BEGIN:VEVENT
SUMMARY:Wahlpflichtfach Theater: Vorstellung für Oberstufe (09.45 - 11.45
  Uhr)
DTSTART;VALUE=DATE:20250212
DTEND;VALUE=DATE:20250213
DTSTAMP;VALUE=DATE-TIME:20260424T005905Z
UID:3b2112465be047619ba6a554463040fb@127.0.0.1:6081
CREATED;VALUE=DATE-TIME:20241203T101545Z
LAST-MODIFIED;VALUE=DATE-TIME:20241203T101550Z
URL:https://gymnasium.ai.ch/nuetzliches/termine/wahlpflichtfach-theater-vo
 rstellung-fuer-oberstufe-09-45-11-45-uhr
END:VEVENT
END:VCALENDAR
