BEGIN:VCALENDAR
VERSION:2.0
PRODID:-//Plone.org//NONSGML plone.app.event//EN
X-WR-TIMEZONE:Europe/Zurich
BEGIN:VEVENT
SUMMARY:Wahlpflichtfach Theater: Vorstellung für Oberstufe (13.45 - 15.45
  Uhr)
DTSTART;VALUE=DATE:20250213
DTEND;VALUE=DATE:20250214
DTSTAMP;VALUE=DATE-TIME:20260424T021457Z
UID:e0794395246a4a2eb0ced29b37d3f885@127.0.0.1:6081
CREATED;VALUE=DATE-TIME:20241203T101853Z
LAST-MODIFIED;VALUE=DATE-TIME:20241203T101857Z
URL:https://gymnasium.ai.ch/nuetzliches/termine/wahlpflichtfach-theater-vo
 rstellung-fuer-oberstufe-13-45-15-45-uhr
END:VEVENT
END:VCALENDAR
