BEGIN:VCALENDAR
VERSION:2.0
PRODID:-//Plone.org//NONSGML plone.app.event//EN
X-WR-TIMEZONE:Europe/Zurich
BEGIN:VEVENT
SUMMARY:Weihnachtsfeier Gymnasium (15.30 – 16.15 Uhr)
DTSTART;VALUE=DATE:20251219
DTEND;VALUE=DATE:20251220
DTSTAMP;VALUE=DATE-TIME:20260423T231829Z
UID:738b8f5ae29f404e9d2b328b62ccf66f@127.0.0.1:6081
CREATED;VALUE=DATE-TIME:20250719T205401Z
LAST-MODIFIED;VALUE=DATE-TIME:20250719T205406Z
URL:https://gymnasium.ai.ch/nuetzliches/termine/weihnachtsfeier-gymnasium-
 15-30-16-15-uhr
END:VEVENT
END:VCALENDAR
