BEGIN:VCALENDAR
VERSION:2.0
PRODID:-//Plone.org//NONSGML plone.app.event//EN
X-WR-TIMEZONE:Europe/Zurich
BEGIN:VEVENT
SUMMARY:Weihnachtsferien
DTSTART;VALUE=DATE:20201218
DTEND;VALUE=DATE:20210104
DTSTAMP;VALUE=DATE-TIME:20260423T231317Z
UID:593fd9abedd045be805359aaa417fa13@127.0.0.1:10150
CREATED;VALUE=DATE-TIME:20200911T143520Z
LAST-MODIFIED;VALUE=DATE-TIME:20200911T143526Z
URL:https://gymnasium.ai.ch/nuetzliches/termine/weihnachtsferien-2
END:VEVENT
END:VCALENDAR
