BEGIN:VCALENDAR
VERSION:2.0
PRODID:-//Plone.org//NONSGML plone.app.event//EN
X-WR-TIMEZONE:Europe/Zurich
BEGIN:VEVENT
SUMMARY:Weihnachtsferien
DTSTART;VALUE=DATE:20211217
DTEND;VALUE=DATE:20220103
DTSTAMP;VALUE=DATE-TIME:20260424T004253Z
UID:8736b9b109fe486398613a4f61fef342@127.0.0.1:10150
CREATED;VALUE=DATE-TIME:20211024T074302Z
LAST-MODIFIED;VALUE=DATE-TIME:20211024T074306Z
URL:https://gymnasium.ai.ch/nuetzliches/termine/weihnachtsferien-3
END:VEVENT
END:VCALENDAR
