BEGIN:VCALENDAR
VERSION:2.0
PRODID:-//Plone.org//NONSGML plone.app.event//EN
X-WR-TIMEZONE:Europe/Zurich
BEGIN:VEVENT
SUMMARY:Weihnachtsferien
DTSTART;VALUE=DATE:20221224
DTEND;VALUE=DATE:20230109
DTSTAMP;VALUE=DATE-TIME:20260424T004253Z
UID:cdbf93a263484110866dc95a2953eea4@127.0.0.1:6081
CREATED;VALUE=DATE-TIME:20220711T203955Z
LAST-MODIFIED;VALUE=DATE-TIME:20220711T204000Z
URL:https://gymnasium.ai.ch/nuetzliches/termine/weihnachtsferien-4
END:VEVENT
END:VCALENDAR
