BEGIN:VCALENDAR
VERSION:2.0
PRODID:-//Plone.org//NONSGML plone.app.event//EN
X-WR-TIMEZONE:Europe/Zurich
BEGIN:VEVENT
SUMMARY:Weihnachtsferien
DTSTART;VALUE=DATE:20231223
DTEND;VALUE=DATE:20240108
DTSTAMP;VALUE=DATE-TIME:20260424T004324Z
UID:5991413f78f746dd9cdbc2af2d96e16c@127.0.0.1:6081
CREATED;VALUE=DATE-TIME:20230712T091108Z
LAST-MODIFIED;VALUE=DATE-TIME:20230712T091139Z
URL:https://gymnasium.ai.ch/nuetzliches/termine/weihnachtsferien-5
END:VEVENT
END:VCALENDAR
