BEGIN:VCALENDAR
VERSION:2.0
PRODID:-//Plone.org//NONSGML plone.app.event//EN
X-WR-TIMEZONE:Europe/Zurich
BEGIN:VEVENT
SUMMARY:Weihnachtsferien
DTSTART;VALUE=DATE:20241221
DTEND;VALUE=DATE:20250106
DTSTAMP;VALUE=DATE-TIME:20260424T004609Z
UID:8140407b2c37418894d6b7062ec9bc77@127.0.0.1:6081
CREATED;VALUE=DATE-TIME:20240703T202307Z
LAST-MODIFIED;VALUE=DATE-TIME:20240703T202312Z
URL:https://gymnasium.ai.ch/nuetzliches/termine/weihnachtsferien-6
END:VEVENT
END:VCALENDAR
