BEGIN:VCALENDAR
VERSION:2.0
PRODID:-//Plone.org//NONSGML plone.app.event//EN
X-WR-TIMEZONE:Europe/Zurich
BEGIN:VEVENT
SUMMARY:Weihnachtsferien
DTSTART;VALUE=DATE:20251220
DTEND;VALUE=DATE:20260105
DTSTAMP;VALUE=DATE-TIME:20260424T004253Z
UID:88fa45d4f33647758f0394e7de51f314@127.0.0.1:6081
CREATED;VALUE=DATE-TIME:20250719T205918Z
LAST-MODIFIED;VALUE=DATE-TIME:20250719T205922Z
URL:https://gymnasium.ai.ch/nuetzliches/termine/weihnachtsferien-7
END:VEVENT
END:VCALENDAR
