BEGIN:VCALENDAR
VERSION:2.0
PRODID:-//Plone.org//NONSGML plone.app.event//EN
X-WR-TIMEZONE:Europe/Zurich
BEGIN:VEVENT
SUMMARY:Weihnachtsferien
DTSTART;VALUE=DATE:20181221
DTEND;VALUE=DATE:20190107
DTSTAMP;VALUE=DATE-TIME:20260424T004227Z
UID:eba896d55e9e474da1adc1d891ba1456@127.0.0.1:10150
CREATED;VALUE=DATE-TIME:20180928T122717Z
LAST-MODIFIED;VALUE=DATE-TIME:20180928T150943Z
URL:https://gymnasium.ai.ch/nuetzliches/termine/weihnachtsferien
END:VEVENT
END:VCALENDAR
