BEGIN:VCALENDAR
VERSION:2.0
PRODID:-//Plone.org//NONSGML plone.app.event//EN
X-WR-TIMEZONE:Europe/Zurich
BEGIN:VEVENT
SUMMARY:Wintersporttag
DTSTART;VALUE=DATE:20180129
DTEND;VALUE=DATE:20180131
DTSTAMP;VALUE=DATE-TIME:20260424T004414Z
UID:d7a016d54fd548628cb8bc2d7fa99388@127.0.0.1:10150
CREATED;VALUE=DATE-TIME:20180129T085114Z
LAST-MODIFIED;VALUE=DATE-TIME:20180129T085353Z
URL:https://gymnasium.ai.ch/nuetzliches/termine/wintersporttag-1
END:VEVENT
END:VCALENDAR
