BEGIN:VCALENDAR
VERSION:2.0
PRODID:-//Plone.org//NONSGML plone.app.event//EN
X-WR-TIMEZONE:Europe/Zurich
BEGIN:VEVENT
SUMMARY:Wintersporttag
DTSTART;VALUE=DATE:20200217
DTEND;VALUE=DATE:20200219
DTSTAMP;VALUE=DATE-TIME:20260423T231341Z
UID:8f08537ba4694525acad0d6364f67da7@127.0.0.1:10150
CREATED;VALUE=DATE-TIME:20200217T075024Z
LAST-MODIFIED;VALUE=DATE-TIME:20200217T075028Z
URL:https://gymnasium.ai.ch/nuetzliches/termine/wintersporttag-2
END:VEVENT
END:VCALENDAR
