BEGIN:VCALENDAR
VERSION:2.0
PRODID:-//Plone.org//NONSGML plone.app.event//EN
X-WR-TIMEZONE:Europe/Zurich
BEGIN:VEVENT
SUMMARY:Wintersporttag
DTSTART;VALUE=DATE:20220124
DTEND;VALUE=DATE:20220126
DTSTAMP;VALUE=DATE-TIME:20260424T004323Z
UID:799fe873c94445a388ec2676529ccd50@127.0.0.1:10150
CREATED;VALUE=DATE-TIME:20220124T170305Z
LAST-MODIFIED;VALUE=DATE-TIME:20220124T170349Z
URL:https://gymnasium.ai.ch/nuetzliches/termine/wintersporttag-3
END:VEVENT
END:VCALENDAR
