BEGIN:VCALENDAR
VERSION:2.0
PRODID:-//Plone.org//NONSGML plone.app.event//EN
X-WR-TIMEZONE:Europe/Zurich
BEGIN:VEVENT
SUMMARY:Wintersporttag
DTSTART;VALUE=DATE:20180122
DTEND;VALUE=DATE:20180124
DTSTAMP;VALUE=DATE-TIME:20260423T231345Z
UID:56de8b23a6f140e6b7bbaca8a3e2dc0b@127.0.0.1:10150
CREATED;VALUE=DATE-TIME:20180109T143634Z
DESCRIPTION:ev. Wintersporttag
LAST-MODIFIED;VALUE=DATE-TIME:20180109T143830Z
URL:https://gymnasium.ai.ch/nuetzliches/termine/wintersporttag
END:VEVENT
END:VCALENDAR
