BEGIN:VCALENDAR
VERSION:2.0
PRODID:-//Plone.org//NONSGML plone.app.event//EN
X-WR-TIMEZONE:Europe/Zurich
BEGIN:VEVENT
SUMMARY:Wirtschaftswoche 5. Gym.
DTSTART;VALUE=DATE:20230403
DTEND;VALUE=DATE:20230407
DTSTAMP;VALUE=DATE-TIME:20260423T231512Z
UID:e6e65b19b96e49a0b46525a325c803cd@127.0.0.1:6081
CREATED;VALUE=DATE-TIME:20230203T104555Z
LAST-MODIFIED;VALUE=DATE-TIME:20230203T104643Z
URL:https://gymnasium.ai.ch/nuetzliches/termine/wirtschaftswoche-5-gym
END:VEVENT
END:VCALENDAR
