BEGIN:VCALENDAR
VERSION:2.0
PRODID:-//Plone.org//NONSGML plone.app.event//EN
X-WR-TIMEZONE:Europe/Zurich
BEGIN:VEVENT
SUMMARY:WPF Theater
DTSTART;VALUE=DATE-TIME:20180315T190000Z
DTSTAMP;VALUE=DATE-TIME:20260424T004229Z
UID:f8daf12fe5944689a6b12a0001cd8eda@127.0.0.1:10150
CREATED;VALUE=DATE-TIME:20180301T064159Z
DESCRIPTION:Abendvorstellung WPF Theater (20.00 Uhr\, Theatersaal)
LAST-MODIFIED;VALUE=DATE-TIME:20180301T064203Z
URL:https://gymnasium.ai.ch/nuetzliches/termine/wpf-theater-1
END:VEVENT
END:VCALENDAR
