BEGIN:VCALENDAR
VERSION:2.0
PRODID:-//Plone.org//NONSGML plone.app.event//EN
X-WR-TIMEZONE:Europe/Zurich
BEGIN:VEVENT
SUMMARY:WPF Theater
DTSTART;VALUE=DATE-TIME:20180316T190000Z
DTSTAMP;VALUE=DATE-TIME:20260423T231216Z
UID:b9eb86a5234444d18f32bcdf88b3fe50@127.0.0.1:10150
CREATED;VALUE=DATE-TIME:20180301T064240Z
DESCRIPTION:Abendvorstellung WPF Theater (20.00 Uhr\, Theatersaal)
LAST-MODIFIED;VALUE=DATE-TIME:20180301T064245Z
URL:https://gymnasium.ai.ch/nuetzliches/termine/wpf-theater-2
END:VEVENT
END:VCALENDAR
