BEGIN:VCALENDAR
VERSION:2.0
PRODID:-//Plone.org//NONSGML plone.app.event//EN
X-WR-TIMEZONE:Europe/Zurich
BEGIN:VEVENT
SUMMARY:WPF Theater
DTSTART;VALUE=DATE-TIME:20180317T190000Z
DTSTAMP;VALUE=DATE-TIME:20260424T004216Z
UID:e6654dc031234be1a12591caa385559c@127.0.0.1:10150
CREATED;VALUE=DATE-TIME:20180301T064317Z
DESCRIPTION:Abendvorstellung WPF Theater (20.00 Uhr\, Theatersaal)
LAST-MODIFIED;VALUE=DATE-TIME:20180301T064321Z
URL:https://gymnasium.ai.ch/nuetzliches/termine/wpf-theater-3
END:VEVENT
END:VCALENDAR
