BEGIN:VCALENDAR
VERSION:2.0
PRODID:-//Plone.org//NONSGML plone.app.event//EN
X-WR-TIMEZONE:Europe/Zurich
BEGIN:VEVENT
SUMMARY:WPF Theater
DTSTART;VALUE=DATE-TIME:20180318T170000Z
DTEND;VALUE=DATE-TIME:20180318T210000Z
DTSTAMP;VALUE=DATE-TIME:20260424T004231Z
UID:8b014cb2ebe047f3b98f87cb4b3d4216@127.0.0.1:10150
CREATED;VALUE=DATE-TIME:20180301T064405Z
DESCRIPTION:WPF Theater: Aufräumen (18.00 – 22.00 Uhr)
LAST-MODIFIED;VALUE=DATE-TIME:20180301T064409Z
URL:https://gymnasium.ai.ch/nuetzliches/termine/wpf-theater-4
END:VEVENT
END:VCALENDAR
