BEGIN:VCALENDAR
VERSION:2.0
PRODID:-//Plone.org//NONSGML plone.app.event//EN
X-WR-TIMEZONE:Europe/Zurich
BEGIN:VEVENT
SUMMARY:WPF Theater
DTSTART;VALUE=DATE-TIME:20180314T092000Z
DTSTAMP;VALUE=DATE-TIME:20260423T231217Z
UID:6a17a3e078934037bc553d19ee61e6c8@127.0.0.1:10150
CREATED;VALUE=DATE-TIME:20180301T063911Z
DESCRIPTION:WPF Theater: Vorstellung für Sekschüler (10.20 Uhr\, Theater
 saal)
LAST-MODIFIED;VALUE=DATE-TIME:20180301T063916Z
URL:https://gymnasium.ai.ch/nuetzliches/termine/wpf-theater
END:VEVENT
END:VCALENDAR
